BEGIN:VCALENDAR
VERSION:2.0
PRODID:-//dioceseofbaker.org//eCatholic//EN
X-WR-TIMEZONE:LocalTZ
BEGIN:VTIMEZONE
TZID:LocalTZ
X-LIC-LOCATION:LocalTZ
BEGIN:DAYLIGHT
TZOFFSETFROM:-0800
TZOFFSETTO:-0700
TZNAME:LocalTZ
DTSTART:19700308T020000
RRULE:FREQ=YEARLY;BYMONTH=3;BYDAY=2SU
END:DAYLIGHT
BEGIN:STANDARD
TZOFFSETFROM:-0700
TZOFFSETTO:-0800
TZNAME:LocalTZ
DTSTART:19701101T020000
RRULE:FREQ=YEARLY;BYMONTH=11;BYDAY=1SU
END:STANDARD
END:VTIMEZONE
BEGIN:VEVENT
UID:3045463@dioceseofbaker.org
DTSTAMP:20260423T091815Z
DTSTART:20260623T100000
DTEND:20260626T130000
SUMMARY:Quo Vadis Discernment Camp for Young Men
DESCRIPTION:For young men in 8th-12th grader.\n\nYoung men 18-20\, welcome
  to attend as non-chaperoning adults\, must have completed a background ch
 eck and safe environment training for the Diocese of Baker.\n\nAdult men 2
 1+ are invited to serve as chaperones.
END:VEVENT
BEGIN:VEVENT
UID:3009960@dioceseofbaker.org
DTSTAMP:20260423T091815Z
DTSTART;VALUE=DATE:20260716
DTEND;VALUE=DATE:20260717
SUMMARY:Catholic Family Camp A - July 16 - 19\, 2026 <br>Cascade View Retr
 eat Center - Powell Butte<br>
DESCRIPTION:Cascade View Retreat Center\n14427 Alfalfa Rd\nPowell Butte\, 
 OR 97753
END:VEVENT
BEGIN:VEVENT
UID:3045467@dioceseofbaker.org
DTSTAMP:20260423T091815Z
DTSTART:20260720T110000
DTEND:20260723T123000
SUMMARY:Beloved Camp for Young Women
DESCRIPTION:For young women in 7th-12th grade.\n\nYoung women 18-20 may at
 tend as non-chaperoning adults. \n\nAdult women\, 21+\, are invited to ser
 ve as chaperones.\n\nAll adults 18+ must have passed a background check\, 
 and have complete safe environment training for the Diocese of Baker
END:VEVENT
BEGIN:VEVENT
UID:3010614@dioceseofbaker.org
DTSTAMP:20260423T091815Z
DTSTART;VALUE=DATE:20260723
DTEND;VALUE=DATE:20260724
SUMMARY:Catholic Family Camp B - July 23 - 26\, 2026 <br>Cascade View Retr
 eat Center - Powell Butte
DESCRIPTION:Cascade View Retreat Center\n14427 Alfalfa Rd\nPowell Butte\, 
 OR 97753
END:VEVENT
BEGIN:VEVENT
UID:3005643@dioceseofbaker.org
DTSTAMP:20260423T091815Z
DTSTART:20260919T090000
DTEND:20260919T170000
SUMMARY:USCCB Talleres regionales para "Escuchar\, Enseñar\, Enviar" - Her
 miston\, OR<br>Español presentaciones
DESCRIPTION:35$/persona\n\nVista: https://dioceseofbaker.org/listen-teach-
 send para más información\, incluyendo opciones de alojamiento para pasar 
 la noche.
END:VEVENT
BEGIN:VEVENT
UID:3005638@dioceseofbaker.org
DTSTAMP:20260423T091815Z
DTSTART:20260919T090000
DTEND:20260919T170000
SUMMARY:USCCB Regional "Listen\, Teach\, Send" Workshop - Hermiston\, OR<b
 r>Presentations in English & Spanish
DESCRIPTION:$35/person\n\nVisit: https://dioceseofbaker.org/listen-teach-s
 end for more information\, including overnight lodging options.
END:VEVENT
BEGIN:VEVENT
UID:2999071@dioceseofbaker.org
DTSTAMP:20260423T091815Z
DTSTART:20261024T090000
DTEND:20261024T160000
SUMMARY:Diocesan Sanctity of Life Conference - Hermiston - Bilingual
END:VEVENT
END:VCALENDAR
